BEGIN:VCALENDAR
VERSION:2.0
PRODID:icalendar-ruby
CALSCALE:GREGORIAN
METHOD:PUBLISH
X-WR-CALNAME:Discover Concord MA
BEGIN:VTIMEZONE
TZID:America/New_York
BEGIN:DAYLIGHT
DTSTART:20260308T030000
TZOFFSETFROM:-0500
TZOFFSETTO:-0400
RRULE:FREQ=YEARLY;BYDAY=2SU;BYMONTH=3
TZNAME:EDT
END:DAYLIGHT
BEGIN:STANDARD
DTSTART:20261101T010000
TZOFFSETFROM:-0400
TZOFFSETTO:-0500
RRULE:FREQ=YEARLY;BYDAY=1SU;BYMONTH=11
TZNAME:EST
END:STANDARD
END:VTIMEZONE
BEGIN:VEVENT
DTSTAMP:20260425T134905Z
UID:ba3f7db2-b6ad-4219-84a8-9841750b840f
DTSTART;TZID=America/New_York:20260429T090000
DTEND;TZID=America/New_York:20260628T210000
DESCRIPTION:The Umbrella Arts Center of Concord\, MA\, presents its second 
 Ceramics Biennial Exhibition\, “Earthworks: Evolution”\, a regional sh
 ow celebrating the depth of history\, tradition\, and cultural expression 
 in contemporary ceramics\, and the ways in which artists continue to expan
 d the field through innovation and reinterpretation.\n\n\nhttps://www.disc
 overconcordma.com/events/352-earthworks-evolution-ceramics-biennial
LOCATION:The Umbrella Arts Center
SUMMARY:"Earthworks: Evolution" Ceramics Biennial
URL:https://theumbrellaarts.org/earthworks-evolution
END:VEVENT
END:VCALENDAR
